BEGIN:VCALENDAR
VERSION:2.0
PRODID:-//Greek Food Festivals - Southern California - ECPv6.15.17//NONSGML v1.0//EN
CALSCALE:GREGORIAN
METHOD:PUBLISH
X-WR-CALNAME:Greek Food Festivals - Southern California
X-ORIGINAL-URL:https://greekfoodfestivals.com
X-WR-CALDESC:Events for Greek Food Festivals - Southern California
REFRESH-INTERVAL;VALUE=DURATION:PT1H
X-Robots-Tag:noindex
X-PUBLISHED-TTL:PT1H
BEGIN:VTIMEZONE
TZID:America/Los_Angeles
BEGIN:DAYLIGHT
TZOFFSETFROM:-0800
TZOFFSETTO:-0700
TZNAME:PDT
DTSTART:20250309T100000
END:DAYLIGHT
BEGIN:STANDARD
TZOFFSETFROM:-0700
TZOFFSETTO:-0800
TZNAME:PST
DTSTART:20251102T090000
END:STANDARD
BEGIN:DAYLIGHT
TZOFFSETFROM:-0800
TZOFFSETTO:-0700
TZNAME:PDT
DTSTART:20260308T100000
END:DAYLIGHT
BEGIN:STANDARD
TZOFFSETFROM:-0700
TZOFFSETTO:-0800
TZNAME:PST
DTSTART:20261101T090000
END:STANDARD
BEGIN:DAYLIGHT
TZOFFSETFROM:-0800
TZOFFSETTO:-0700
TZNAME:PDT
DTSTART:20270314T100000
END:DAYLIGHT
BEGIN:STANDARD
TZOFFSETFROM:-0700
TZOFFSETTO:-0800
TZNAME:PST
DTSTART:20271107T090000
END:STANDARD
END:VTIMEZONE
BEGIN:VEVENT
DTSTART;TZID=America/Los_Angeles:20260523T120000
DTEND;TZID=America/Los_Angeles:20260525T210000
DTSTAMP:20260419T074800
CREATED:20260226T175930Z
LAST-MODIFIED:20260226T182722Z
UID:10000037-1779537600-1779742800@greekfoodfestivals.com
SUMMARY:Valley Greek Fest 2026
DESCRIPTION:
URL:https://greekfoodfestivals.com/festival/valley-greek-fest-2026/
LOCATION:St. Nicholas Greek Orthodox Church\, 9501 Balboa Boulevard\, Northridge\, 91325-1901\, United States
CATEGORIES:Los Angeles County
ATTACH;FMTTYPE=image/jpeg:https://greekfoodfestivals.com/wp-content/uploads/2026/02/Gallery_img_4.jpg
END:VEVENT
END:VCALENDAR