BEGIN:VCALENDAR
VERSION:2.0
PRODID:-//Greek Food Festivals - Southern California - ECPv6.15.17//NONSGML v1.0//EN
CALSCALE:GREGORIAN
METHOD:PUBLISH
X-ORIGINAL-URL:https://greekfoodfestivals.com
X-WR-CALDESC:Events for Greek Food Festivals - Southern California
REFRESH-INTERVAL;VALUE=DURATION:PT1H
X-Robots-Tag:noindex
X-PUBLISHED-TTL:PT1H
BEGIN:VTIMEZONE
TZID:America/Los_Angeles
BEGIN:DAYLIGHT
TZOFFSETFROM:-0800
TZOFFSETTO:-0700
TZNAME:PDT
DTSTART:20250309T100000
END:DAYLIGHT
BEGIN:STANDARD
TZOFFSETFROM:-0700
TZOFFSETTO:-0800
TZNAME:PST
DTSTART:20251102T090000
END:STANDARD
BEGIN:DAYLIGHT
TZOFFSETFROM:-0800
TZOFFSETTO:-0700
TZNAME:PDT
DTSTART:20260308T100000
END:DAYLIGHT
BEGIN:STANDARD
TZOFFSETFROM:-0700
TZOFFSETTO:-0800
TZNAME:PST
DTSTART:20261101T090000
END:STANDARD
BEGIN:DAYLIGHT
TZOFFSETFROM:-0800
TZOFFSETTO:-0700
TZNAME:PDT
DTSTART:20270314T100000
END:DAYLIGHT
BEGIN:STANDARD
TZOFFSETFROM:-0700
TZOFFSETTO:-0800
TZNAME:PST
DTSTART:20271107T090000
END:STANDARD
END:VTIMEZONE
BEGIN:VEVENT
DTSTART;TZID=America/Los_Angeles:20260905T113000
DTEND;TZID=America/Los_Angeles:20260907T210000
DTSTAMP:20260419T134657
CREATED:20260227T013809Z
LAST-MODIFIED:20260227T013809Z
UID:10000039-1788607800-1788814800@greekfoodfestivals.com
SUMMARY:Long Beach Greek Fest 2026
DESCRIPTION:
URL:https://greekfoodfestivals.com/festival/long-beach-greek-fest-2026/
LOCATION:Assumption Greek Orthodox Church\, 5761 E. Colorado Street\, Long Beach\, 90814\, United States
CATEGORIES:Los Angeles County
ATTACH;FMTTYPE=image/jpeg:https://greekfoodfestivals.com/wp-content/uploads/2026/02/dji_fly_20240901_135300_0393_1725224462528_photo-1-scaled-e1772156281103.jpg
END:VEVENT
BEGIN:VEVENT
DTSTART;TZID=America/Los_Angeles:20260912T120000
DTEND;TZID=America/Los_Angeles:20260913T220000
DTSTAMP:20260419T134657
CREATED:20260228T024044Z
LAST-MODIFIED:20260228T024044Z
UID:10000040-1789214400-1789336800@greekfoodfestivals.com
SUMMARY:Covina Greek Fest 2026
DESCRIPTION:
URL:https://greekfoodfestivals.com/festival/covina-greek-fest-2026/
LOCATION:St. Nectarios Greek Orthodox Church\, 20340 East Covina Boulevard\, Covina\, 91724\, United States
CATEGORIES:Los Angeles County
ATTACH;FMTTYPE=image/jpeg:https://greekfoodfestivals.com/wp-content/uploads/2026/02/Covina25_-146.jpg
END:VEVENT
BEGIN:VEVENT
DTSTART;TZID=America/Los_Angeles:20260918T170000
DTEND;TZID=America/Los_Angeles:20260920T220000
DTSTAMP:20260419T134657
CREATED:20260228T024741Z
LAST-MODIFIED:20260228T024759Z
UID:10000041-1789750800-1789941600@greekfoodfestivals.com
SUMMARY:Pasadena Greek Fest 2026
DESCRIPTION:
URL:https://greekfoodfestivals.com/festival/pasadena-greek-fest-2026/
LOCATION:St. Anthony Greek Orthodox Church\, 778 South Rosemead Boulevard Pasadena\, CA\, Pasadena\, United States
CATEGORIES:Los Angeles County
ATTACH;FMTTYPE=image/jpeg:https://greekfoodfestivals.com/wp-content/uploads/2026/02/IMG_9173.jpeg
END:VEVENT
END:VCALENDAR